BEGIN:VCALENDAR
VERSION:2.0
PRODID:-//85.13.144.64//NONSGML kigkonsult.se iCalcreator 2.20//
CALSCALE:GREGORIAN
METHOD:PUBLISH
X-WR-TIMEZONE:UTC
BEGIN:VEVENT
UID:event13@Trickschule für Hunde - Ihre Hundeschule in Moers, Kamp-Lintfor
 t, Duisburg und Umgebung
DTSTAMP:20260421T104740Z
CATEGORIES:Trickdogging
DESCRIPTION:Ausgebucht Tageskurs Trickdogging\nKategorie: Trickdogging\nICS
 -Link: https://trickschule.de/index.php?option=com_jem&view=event&id=13:ta
 geskurs\n
DTSTART:20160423T103000Z
DTEND:20160423T173000Z
LOCATION:Trickschule für Hunde\,Rayer Str. 259\,47445 Moers
SUMMARY:Ausgebucht Tageskurs Trickdogging
URL:https://trickschule.de/index.php?option=com_jem&view=event&id=13:tagesk
 urs
END:VEVENT
END:VCALENDAR
