BEGIN:VCALENDAR
VERSION:2.0
PRODID:-//85.13.144.64//NONSGML kigkonsult.se iCalcreator 2.20//
CALSCALE:GREGORIAN
METHOD:PUBLISH
X-WR-TIMEZONE:UTC
BEGIN:VEVENT
UID:event75@Trickschule für Hunde - Ihre Hundeschule in Moers, Kamp-Lintfor
 t, Duisburg und Umgebung
DTSTAMP:20260421T104828Z
CATEGORIES:Trickdogging
DESCRIPTION:Trickdogging Exklusiv-Workshop - ausgebucht\nKategorie: Trickdo
 gging\nICS-Link: https://trickschule.de/index.php?option=com_jem&view=even
 t&id=75:trickdogging-wochenendseminar\n
DTSTART:20240406T100000Z
DTEND:20240406T130000Z
LOCATION:Trickschule für Hunde\,Rayer Str. 259\,47445 Moers
SUMMARY:Trickdogging Exklusiv-Workshop - ausgebucht
URL:https://trickschule.de/index.php?option=com_jem&view=event&id=75:trickd
 ogging-wochenendseminar
END:VEVENT
END:VCALENDAR
